BEGIN:VCALENDAR
VERSION:2.0
PRODID:-//hacksw/handcal//NONSGML v1.0//EN
BEGIN:VEVENT
SUMMARY:Tournoi
UID:93c3abd9-1aae-4a1d-8f80-cab00491efb9
DTSTART:20260228T090000Z
DTEND:20260228T130000Z
LOCATION:Localisation   
CATEGORIES:Sportif
STATUS:
DESCRIPTION:<p>Le tournoi du club au lieu dans le bowling de la
 ville.</p><p>Les trophees seront remis en fin de journee.</p>
URL;VALUE=URI:https://bcmarzy.sportsregions.fr/evenements/2026/02/28/tournoi-2421484
END:VEVENT
END:VCALENDAR
